Package: factR Version: 1.1.0 Command: rm -rf factR.buildbin-libdir && mkdir factR.buildbin-libdir && F:\biocbuild\bbs-3.17-bioc\R\bin\R.exe CMD INSTALL --build --library=factR.buildbin-libdir factR_1.1.0.tar.gz StartedAt: 2022-12-29 05:08:19 -0500 (Thu, 29 Dec 2022) EndedAt: 2022-12-29 05:08:32 -0500 (Thu, 29 Dec 2022) EllapsedTime: 12.8 seconds RetCode: 0 Status: OK PackageFile: factR_1.1.0.zip PackageFileSize: 1.464 MiB