Package: epistasisGA Version: 1.1.0 Command: F:\biocbuild\bbs-3.17-bioc\R\bin\R.exe CMD INSTALL epistasisGA StartedAt: 2022-12-28 16:08:07 -0500 (Wed, 28 Dec 2022) EndedAt: 2022-12-28 16:08:49 -0500 (Wed, 28 Dec 2022) EllapsedTime: 41.8 seconds RetCode: 0 Status: OK