Package: epistasisGA Version: 1.1.0 Command: chmod a+r epistasisGA -R && F:\biocbuild\bbs-3.17-bioc\R\bin\R.exe CMD build --keep-empty-dirs --no-resave-data epistasisGA StartedAt: 2022-12-28 17:52:18 -0500 (Wed, 28 Dec 2022) EndedAt: 2022-12-28 17:55:36 -0500 (Wed, 28 Dec 2022) EllapsedTime: 197.8 seconds RetCode: 0 Status: OK PackageFile: epistasisGA_1.1.0.tar.gz PackageFileSize: 727.1 KiB