git_url: https://git.bioconductor.org/packages/distinct git_branch: master git_last_commit: 70c4077 git_last_commit_date: 2022-11-01 11:21:46 -0500 (Tue, 01 Nov 2022) Package: distinct Version: 1.11.0 Maintainer: Simone Tiberi MaintainerEmail: simone.tiberi at uzh.ch