Package: crisprBase Version: 1.3.0 Command: F:\biocbuild\bbs-3.17-bioc\R\bin\R.exe CMD check --no-multiarch --install=check:crisprBase.install-out.txt --library=F:\biocbuild\bbs-3.17-bioc\R\library --no-vignettes --timings crisprBase_1.3.0.tar.gz StartedAt: 2022-12-28 22:51:12 -0500 (Wed, 28 Dec 2022) EndedAt: 2022-12-28 22:52:45 -0500 (Wed, 28 Dec 2022) EllapsedTime: 93.5 seconds RetCode: 0 Status: OK CheckDir: crisprBase.Rcheck Warnings: 0