Package: contiBAIT Version: 1.27.0 Command: chmod a+r contiBAIT -R && F:\biocbuild\bbs-3.17-bioc\R\bin\R.exe CMD build --keep-empty-dirs --no-resave-data contiBAIT StartedAt: 2022-12-28 17:23:51 -0500 (Wed, 28 Dec 2022) EndedAt: 2022-12-28 17:25:22 -0500 (Wed, 28 Dec 2022) EllapsedTime: 91.0 seconds RetCode: 0 Status: OK PackageFile: contiBAIT_1.27.0.tar.gz PackageFileSize: 3.729 MiB