Package: clusterSeq Version: 1.23.0 Command: F:\biocbuild\bbs-3.17-bioc\R\bin\R.exe CMD INSTALL clusterSeq StartedAt: 2022-12-28 15:43:55 -0500 (Wed, 28 Dec 2022) EndedAt: 2022-12-28 15:44:14 -0500 (Wed, 28 Dec 2022) EllapsedTime: 18.6 seconds RetCode: 0 Status: OK