Package: clusterSeq Version: 1.23.0 Command: rm -rf clusterSeq.buildbin-libdir && mkdir clusterSeq.buildbin-libdir && F:\biocbuild\bbs-3.17-bioc\R\bin\R.exe CMD INSTALL --build --library=clusterSeq.buildbin-libdir clusterSeq_1.23.0.tar.gz StartedAt: 2022-12-29 04:58:42 -0500 (Thu, 29 Dec 2022) EndedAt: 2022-12-29 04:58:58 -0500 (Thu, 29 Dec 2022) EllapsedTime: 16.2 seconds RetCode: 0 Status: OK PackageFile: clusterSeq_1.23.0.zip PackageFileSize: 1.056 MiB