Package: clustComp Version: 1.27.0 Command: chmod a+r clustComp -R && F:\biocbuild\bbs-3.17-bioc\R\bin\R.exe CMD build --keep-empty-dirs --no-resave-data clustComp StartedAt: 2022-12-28 17:17:38 -0500 (Wed, 28 Dec 2022) EndedAt: 2022-12-28 17:18:40 -0500 (Wed, 28 Dec 2022) EllapsedTime: 62.1 seconds RetCode: 0 Status: OK PackageFile: clustComp_1.27.0.tar.gz PackageFileSize: 794.7 KiB