Package: chromswitch Version: 1.21.0 Command: rm -rf chromswitch.buildbin-libdir && mkdir chromswitch.buildbin-libdir && F:\biocbuild\bbs-3.17-bioc\R\bin\R.exe CMD INSTALL --build --library=chromswitch.buildbin-libdir chromswitch_1.21.0.tar.gz StartedAt: 2022-12-29 04:57:57 -0500 (Thu, 29 Dec 2022) EndedAt: 2022-12-29 04:58:29 -0500 (Thu, 29 Dec 2022) EllapsedTime: 31.9 seconds RetCode: 0 Status: OK PackageFile: chromswitch_1.21.0.zip PackageFileSize: 1.422 MiB