git_url: https://git.bioconductor.org/packages/chromswitch git_branch: master git_last_commit: 3fb32d9 git_last_commit_date: 2022-11-01 11:16:44 -0500 (Tue, 01 Nov 2022) Package: chromswitch Version: 1.21.0 Maintainer: Selin Jessa MaintainerEmail: selinjessa at gmail.com