Package: chimeraviz Version: 1.25.0 Command: F:\biocbuild\bbs-3.17-bioc\R\bin\R.exe CMD check --no-multiarch --install=check:chimeraviz.install-out.txt --library=F:\biocbuild\bbs-3.17-bioc\R\library --no-vignettes --timings chimeraviz_1.25.0.tar.gz StartedAt: 2022-12-28 22:25:21 -0500 (Wed, 28 Dec 2022) EndedAt: 2022-12-28 22:33:23 -0500 (Wed, 28 Dec 2022) EllapsedTime: 481.4 seconds RetCode: 0 Status: OK CheckDir: chimeraviz.Rcheck Warnings: 0