Package: borealis Version: 1.3.1 Command: rm -rf borealis.buildbin-libdir && mkdir borealis.buildbin-libdir && F:\biocbuild\bbs-3.17-bioc\R\bin\R.exe CMD INSTALL --build --library=borealis.buildbin-libdir borealis_1.3.1.tar.gz StartedAt: 2022-12-29 04:54:12 -0500 (Thu, 29 Dec 2022) EndedAt: 2022-12-29 04:54:49 -0500 (Thu, 29 Dec 2022) EllapsedTime: 37.1 seconds RetCode: 0 Status: OK PackageFile: borealis_1.3.1.zip PackageFileSize: 393.9 KiB