Package: blacksheepr Version: 1.13.0 Command: rm -rf blacksheepr.buildbin-libdir && mkdir blacksheepr.buildbin-libdir && F:\biocbuild\bbs-3.17-bioc\R\bin\R.exe CMD INSTALL --build --library=blacksheepr.buildbin-libdir blacksheepr_1.13.0.tar.gz StartedAt: 2022-12-29 04:53:51 -0500 (Thu, 29 Dec 2022) EndedAt: 2022-12-29 04:54:24 -0500 (Thu, 29 Dec 2022) EllapsedTime: 32.4 seconds RetCode: 0 Status: OK PackageFile: blacksheepr_1.13.0.zip PackageFileSize: 4.037 MiB