Package: biscuiteer Version: 1.13.0 Command: F:\biocbuild\bbs-3.17-bioc\R\bin\R.exe CMD check --no-multiarch --install=check:biscuiteer.install-out.txt --library=F:\biocbuild\bbs-3.17-bioc\R\library --no-vignettes --timings biscuiteer_1.13.0.tar.gz StartedAt: 2022-12-28 22:03:24 -0500 (Wed, 28 Dec 2022) EndedAt: 2022-12-28 22:10:01 -0500 (Wed, 28 Dec 2022) EllapsedTime: 396.7 seconds RetCode: 0 Status: WARNINGS CheckDir: biscuiteer.Rcheck Warnings: 1