Package: biscuiteer Version: 1.13.0 Command: chmod a+r biscuiteer -R && F:\biocbuild\bbs-3.17-bioc\R\bin\R.exe CMD build --keep-empty-dirs --no-resave-data biscuiteer StartedAt: 2022-12-28 16:58:58 -0500 (Wed, 28 Dec 2022) EndedAt: 2022-12-28 17:01:04 -0500 (Wed, 28 Dec 2022) EllapsedTime: 125.8 seconds RetCode: 0 Status: OK PackageFile: biscuiteer_1.13.0.tar.gz PackageFileSize: 4.746 MiB