Package: biomaRt Version: 2.55.0 Command: F:\biocbuild\bbs-3.17-bioc\R\bin\R.exe CMD INSTALL biomaRt StartedAt: 2022-12-28 15:49:55 -0500 (Wed, 28 Dec 2022) EndedAt: 2022-12-28 15:50:16 -0500 (Wed, 28 Dec 2022) EllapsedTime: 20.7 seconds RetCode: 0 Status: OK