Package: biomaRt Version: 2.55.0 Command: F:\biocbuild\bbs-3.17-bioc\R\bin\R.exe CMD check --no-multiarch --install=check:biomaRt.install-out.txt --library=F:\biocbuild\bbs-3.17-bioc\R\library --no-vignettes --timings biomaRt_2.55.0.tar.gz StartedAt: 2022-12-28 22:00:23 -0500 (Wed, 28 Dec 2022) EndedAt: 2022-12-28 22:03:03 -0500 (Wed, 28 Dec 2022) EllapsedTime: 160.0 seconds RetCode: 1 Status: ERROR CheckDir: biomaRt.Rcheck Warnings: NA