Package: biomaRt Version: 2.55.0 Command: chmod a+r biomaRt -R && F:\biocbuild\bbs-3.17-bioc\R\bin\R.exe CMD build --keep-empty-dirs --no-resave-data biomaRt StartedAt: 2022-12-28 16:55:50 -0500 (Wed, 28 Dec 2022) EndedAt: 2022-12-28 16:58:27 -0500 (Wed, 28 Dec 2022) EllapsedTime: 156.6 seconds RetCode: 0 Status: OK PackageFile: biomaRt_2.55.0.tar.gz PackageFileSize: 652.9 KiB