Package: bigmelon Version: 1.25.1 Command: F:\biocbuild\bbs-3.17-bioc\R\bin\R.exe CMD INSTALL bigmelon StartedAt: 2022-12-28 16:27:15 -0500 (Wed, 28 Dec 2022) EndedAt: 2022-12-28 16:28:08 -0500 (Wed, 28 Dec 2022) EllapsedTime: 53.1 seconds RetCode: 0 Status: OK