Package: agilp Version: 3.31.0 Command: rm -rf agilp.buildbin-libdir && mkdir agilp.buildbin-libdir && F:\biocbuild\bbs-3.17-bioc\R\bin\R.exe CMD INSTALL --build --library=agilp.buildbin-libdir agilp_3.31.0.tar.gz StartedAt: 2022-12-29 04:48:54 -0500 (Thu, 29 Dec 2022) EndedAt: 2022-12-29 04:49:11 -0500 (Thu, 29 Dec 2022) EllapsedTime: 17.1 seconds RetCode: 0 Status: OK PackageFile: agilp_3.31.0.zip PackageFileSize: 386.6 KiB