Package: TSCAN Version: 1.37.0 Command: F:\biocbuild\bbs-3.17-bioc\R\bin\R.exe CMD INSTALL TSCAN StartedAt: 2022-12-28 16:00:30 -0500 (Wed, 28 Dec 2022) EndedAt: 2022-12-28 16:00:58 -0500 (Wed, 28 Dec 2022) EllapsedTime: 28.1 seconds RetCode: 0 Status: OK