############################################################################## ############################################################################## ### ### Running command: ### ### F:\biocbuild\bbs-3.17-bioc\R\bin\R.exe CMD INSTALL TIN ### ############################################################################## ############################################################################## * installing to library 'F:/biocbuild/bbs-3.17-bioc/R/library' * installing *source* package 'TIN' ... ** using staged installation ** R ** data ** inst ** byte-compile and prepare package for lazy loading Warning message: In .requireBiocPackage("affxparser", neededBy = getName(pkg)) : Package 'affxparser' could not be loaded. Without it aroma.affymetrix will not work. Please install it from Bioconductor, cf. https://www.bioconductor.org/ ** help *** installing help indices ** building package indices ** installing vignettes ** testing if installed package can be loaded from temporary location Warning in .requireBiocPackage("affxparser", neededBy = getName(pkg)) : Package 'affxparser' could not be loaded. Without it aroma.affymetrix will not work. Please install it from Bioconductor, cf. https://www.bioconductor.org/ ** testing if installed package can be loaded from final location Warning in .requireBiocPackage("affxparser", neededBy = getName(pkg)) : Package 'affxparser' could not be loaded. Without it aroma.affymetrix will not work. Please install it from Bioconductor, cf. https://www.bioconductor.org/ ** testing if installed package keeps a record of temporary installation path * DONE (TIN)