Package: SingleR Version: 2.1.0 Command: F:\biocbuild\bbs-3.17-bioc\R\bin\R.exe CMD check --no-multiarch --install=check:SingleR.install-out.txt --library=F:\biocbuild\bbs-3.17-bioc\R\library --no-vignettes --timings SingleR_2.1.0.tar.gz StartedAt: 2022-12-29 03:39:49 -0500 (Thu, 29 Dec 2022) EndedAt: 2022-12-29 03:43:56 -0500 (Thu, 29 Dec 2022) EllapsedTime: 246.7 seconds RetCode: 0 Status: OK CheckDir: SingleR.Rcheck Warnings: 0