Package: S4Vectors Version: 0.37.3 Command: F:\biocbuild\bbs-3.17-bioc\R\bin\R.exe CMD check --no-multiarch --install=check:S4Vectors.install-out.txt --library=F:\biocbuild\bbs-3.17-bioc\R\library --no-vignettes --timings S4Vectors_0.37.3.tar.gz StartedAt: 2022-12-29 03:09:39 -0500 (Thu, 29 Dec 2022) EndedAt: 2022-12-29 03:11:07 -0500 (Thu, 29 Dec 2022) EllapsedTime: 87.5 seconds RetCode: 0 Status: WARNINGS CheckDir: S4Vectors.Rcheck Warnings: 4