Package: RefPlus Version: 1.69.0 Command: F:\biocbuild\bbs-3.17-bioc\R\bin\R.exe CMD check --no-multiarch --install=check:RefPlus.install-out.txt --library=F:\biocbuild\bbs-3.17-bioc\R\library --no-vignettes --timings RefPlus_1.69.0.tar.gz StartedAt: 2022-12-29 02:44:15 -0500 (Thu, 29 Dec 2022) EndedAt: 2022-12-29 02:45:34 -0500 (Thu, 29 Dec 2022) EllapsedTime: 79.1 seconds RetCode: 0 Status: OK CheckDir: RefPlus.Rcheck Warnings: 0