Package: Rdisop Version: 1.59.0 Command: F:\biocbuild\bbs-3.17-bioc\R\bin\R.exe CMD check --no-multiarch --install=check:Rdisop.install-out.txt --library=F:\biocbuild\bbs-3.17-bioc\R\library --no-vignettes --timings Rdisop_1.59.0.tar.gz StartedAt: 2022-12-29 02:41:06 -0500 (Thu, 29 Dec 2022) EndedAt: 2022-12-29 02:41:51 -0500 (Thu, 29 Dec 2022) EllapsedTime: 44.3 seconds RetCode: 0 Status: WARNINGS CheckDir: Rdisop.Rcheck Warnings: 1