Package: RadioGx Version: 2.3.0 Command: chmod a+r RadioGx -R && F:\biocbuild\bbs-3.17-bioc\R\bin\R.exe CMD build --keep-empty-dirs --no-resave-data RadioGx StartedAt: 2022-12-28 19:59:47 -0500 (Wed, 28 Dec 2022) EndedAt: 2022-12-28 20:00:37 -0500 (Wed, 28 Dec 2022) EllapsedTime: 50.1 seconds RetCode: 0 Status: OK PackageFile: RadioGx_2.3.0.tar.gz PackageFileSize: 2.708 MiB