Package: RTNduals Version: 1.23.0 Command: chmod a+r RTNduals -R && F:\biocbuild\bbs-3.17-bioc\R\bin\R.exe CMD build --keep-empty-dirs --no-resave-data RTNduals StartedAt: 2022-12-28 20:18:15 -0500 (Wed, 28 Dec 2022) EndedAt: 2022-12-28 20:19:27 -0500 (Wed, 28 Dec 2022) EllapsedTime: 71.9 seconds RetCode: 0 Status: OK PackageFile: RTNduals_1.23.0.tar.gz PackageFileSize: 584.4 KiB