Package: RIPAT Version: 1.9.0 Command: F:\biocbuild\bbs-3.17-bioc\R\bin\R.exe CMD INSTALL RIPAT StartedAt: 2022-12-28 16:23:31 -0500 (Wed, 28 Dec 2022) EndedAt: 2022-12-28 16:23:38 -0500 (Wed, 28 Dec 2022) EllapsedTime: 6.9 seconds RetCode: 0 Status: OK