Package: RIPAT Version: 1.9.0 Command: chmod a+r RIPAT -R && F:\biocbuild\bbs-3.17-bioc\R\bin\R.exe CMD build --keep-empty-dirs --no-resave-data RIPAT StartedAt: 2022-12-28 20:10:56 -0500 (Wed, 28 Dec 2022) EndedAt: 2022-12-28 20:20:04 -0500 (Wed, 28 Dec 2022) EllapsedTime: 548.4 seconds RetCode: 0 Status: OK PackageFile: RIPAT_1.9.0.tar.gz PackageFileSize: 3.898 MiB