Package: RGSEA Version: 1.33.0 Command: chmod a+r RGSEA -R && F:\biocbuild\bbs-3.17-bioc\R\bin\R.exe CMD build --keep-empty-dirs --no-resave-data RGSEA StartedAt: 2022-12-28 20:08:33 -0500 (Wed, 28 Dec 2022) EndedAt: 2022-12-28 20:09:16 -0500 (Wed, 28 Dec 2022) EllapsedTime: 43.2 seconds RetCode: 0 Status: OK PackageFile: RGSEA_1.33.0.tar.gz PackageFileSize: 1.724 MiB