Package: RGMQL Version: 1.19.0 Command: chmod a+r RGMQL -R && F:\biocbuild\bbs-3.17-bioc\R\bin\R.exe CMD build --keep-empty-dirs --no-resave-data RGMQL StartedAt: 2022-12-28 20:07:49 -0500 (Wed, 28 Dec 2022) EndedAt: 2022-12-28 20:09:05 -0500 (Wed, 28 Dec 2022) EllapsedTime: 75.9 seconds RetCode: 0 Status: OK PackageFile: RGMQL_1.19.0.tar.gz PackageFileSize: 29.39 MiB