Package: PICS Version: 2.43.0 Command: chmod a+r PICS -R && F:\biocbuild\bbs-3.17-bioc\R\bin\R.exe CMD build --keep-empty-dirs --no-resave-data PICS StartedAt: 2022-12-28 19:46:12 -0500 (Wed, 28 Dec 2022) EndedAt: 2022-12-28 19:47:08 -0500 (Wed, 28 Dec 2022) EllapsedTime: 56.1 seconds RetCode: 0 Status: OK PackageFile: PICS_2.43.0.tar.gz PackageFileSize: 663.5 KiB