Package: PICS Version: 2.43.0 Command: rm -rf PICS.buildbin-libdir && mkdir PICS.buildbin-libdir && F:\biocbuild\bbs-3.17-bioc\R\bin\R.exe CMD INSTALL --build --library=PICS.buildbin-libdir PICS_2.43.0.tar.gz StartedAt: 2022-12-29 05:32:07 -0500 (Thu, 29 Dec 2022) EndedAt: 2022-12-29 05:32:41 -0500 (Thu, 29 Dec 2022) EllapsedTime: 33.3 seconds RetCode: 0 Status: OK PackageFile: PICS_2.43.0.zip PackageFileSize: 1.533 MiB