Package: OmicsLonDA Version: 1.15.0 Command: chmod a+r OmicsLonDA -R && F:\biocbuild\bbs-3.17-bioc\R\bin\R.exe CMD build --keep-empty-dirs --no-resave-data OmicsLonDA StartedAt: 2022-12-28 19:25:12 -0500 (Wed, 28 Dec 2022) EndedAt: 2022-12-28 19:26:01 -0500 (Wed, 28 Dec 2022) EllapsedTime: 48.8 seconds RetCode: 0 Status: OK PackageFile: OmicsLonDA_1.15.0.tar.gz PackageFileSize: 6.747 MiB