Package: OmicsLonDA Version: 1.15.0 Command: rm -rf OmicsLonDA.buildbin-libdir && mkdir OmicsLonDA.buildbin-libdir && F:\biocbuild\bbs-3.17-bioc\R\bin\R.exe CMD INSTALL --build --library=OmicsLonDA.buildbin-libdir OmicsLonDA_1.15.0.tar.gz StartedAt: 2022-12-29 05:29:11 -0500 (Thu, 29 Dec 2022) EndedAt: 2022-12-29 05:29:43 -0500 (Thu, 29 Dec 2022) EllapsedTime: 31.8 seconds RetCode: 0 Status: OK PackageFile: OmicsLonDA_1.15.0.zip PackageFileSize: 4.895 MiB