Package: OLIN Version: 1.77.0 Command: rm -rf OLIN.buildbin-libdir && mkdir OLIN.buildbin-libdir && F:\biocbuild\bbs-3.17-bioc\R\bin\R.exe CMD INSTALL --build --library=OLIN.buildbin-libdir OLIN_1.77.0.tar.gz StartedAt: 2022-12-29 05:28:59 -0500 (Thu, 29 Dec 2022) EndedAt: 2022-12-29 05:29:08 -0500 (Thu, 29 Dec 2022) EllapsedTime: 8.9 seconds RetCode: 0 Status: OK PackageFile: OLIN_1.77.0.zip PackageFileSize: 2.588 MiB