Package: NxtIRFcore Version: 1.5.0 Command: rm -rf NxtIRFcore.buildbin-libdir && mkdir NxtIRFcore.buildbin-libdir && F:\biocbuild\bbs-3.17-bioc\R\bin\R.exe CMD INSTALL --build --library=NxtIRFcore.buildbin-libdir NxtIRFcore_1.5.0.tar.gz StartedAt: 2022-12-29 05:28:47 -0500 (Thu, 29 Dec 2022) EndedAt: 2022-12-29 05:30:26 -0500 (Thu, 29 Dec 2022) EllapsedTime: 99.3 seconds RetCode: 0 Status: OK PackageFile: NxtIRFcore_1.5.0.zip PackageFileSize: 3.395 MiB