Package: NanoStringDiff Version: 1.29.0 Command: rm -rf NanoStringDiff.buildbin-libdir && mkdir NanoStringDiff.buildbin-libdir && F:\biocbuild\bbs-3.17-bioc\R\bin\R.exe CMD INSTALL --build --library=NanoStringDiff.buildbin-libdir NanoStringDiff_1.29.0.tar.gz StartedAt: 2022-12-29 05:27:25 -0500 (Thu, 29 Dec 2022) EndedAt: 2022-12-29 05:27:58 -0500 (Thu, 29 Dec 2022) EllapsedTime: 32.7 seconds RetCode: 0 Status: OK PackageFile: NanoStringDiff_1.29.0.zip PackageFileSize: 661.8 KiB