git_url: https://git.bioconductor.org/packages/NBSplice git_branch: master git_last_commit: be88214 git_last_commit_date: 2022-11-01 11:18:07 -0500 (Tue, 01 Nov 2022) Package: NBSplice Version: 1.17.0 Maintainer: Gabriela Merino MaintainerEmail: merino.gabriela33 at gmail.com