git_url: https://git.bioconductor.org/packages/MultiAssayExperiment git_branch: master git_last_commit: 52db3a7 git_last_commit_date: 2022-12-19 17:52:41 -0500 (Mon, 19 Dec 2022) Package: MultiAssayExperiment Version: 1.25.5 Maintainer: Marcel Ramos MaintainerEmail: marcel.ramos at roswellpark.org