Package: Mulcom Version: 1.49.0 Command: chmod a+r Mulcom -R && F:\biocbuild\bbs-3.17-bioc\R\bin\R.exe CMD build --keep-empty-dirs --no-resave-data Mulcom StartedAt: 2022-12-28 19:16:06 -0500 (Wed, 28 Dec 2022) EndedAt: 2022-12-28 19:16:10 -0500 (Wed, 28 Dec 2022) EllapsedTime: 3.5 seconds RetCode: 0 Status: OK PackageFile: Mulcom_1.49.0.tar.gz PackageFileSize: 1.095 MiB