git_url: https://git.bioconductor.org/packages/MsExperiment git_branch: master git_last_commit: 43f9c02 git_last_commit_date: 2022-11-30 06:14:38 -0500 (Wed, 30 Nov 2022) Package: MsExperiment Version: 1.1.1 Maintainer: Laurent Gatto MaintainerEmail: laurent.gatto at uclouvain.be