Package: MSnbase Version: 2.25.1 Command: F:\biocbuild\bbs-3.17-bioc\R\bin\R.exe CMD INSTALL MSnbase StartedAt: 2022-12-28 15:43:35 -0500 (Wed, 28 Dec 2022) EndedAt: 2022-12-28 15:44:43 -0500 (Wed, 28 Dec 2022) EllapsedTime: 68.5 seconds RetCode: 0 Status: OK