Package: MSnbase Version: 2.25.1 Command: chmod a+r MSnbase -R && F:\biocbuild\bbs-3.17-bioc\R\bin\R.exe CMD build --keep-empty-dirs --no-resave-data MSnbase StartedAt: 2022-12-28 19:14:01 -0500 (Wed, 28 Dec 2022) EndedAt: 2022-12-28 19:17:59 -0500 (Wed, 28 Dec 2022) EllapsedTime: 238.0 seconds RetCode: 0 Status: OK PackageFile: MSnbase_2.25.1.tar.gz PackageFileSize: 3.94 MiB