Package: MLInterfaces Version: 1.79.1 Command: F:\biocbuild\bbs-3.17-bioc\R\bin\R.exe CMD INSTALL MLInterfaces StartedAt: 2022-12-28 16:09:46 -0500 (Wed, 28 Dec 2022) EndedAt: 2022-12-28 16:10:20 -0500 (Wed, 28 Dec 2022) EllapsedTime: 34.5 seconds RetCode: 0 Status: OK