Package: LOLA Version: 1.29.0 Command: F:\biocbuild\bbs-3.17-bioc\R\bin\R.exe CMD check --no-multiarch --install=check:LOLA.install-out.txt --library=F:\biocbuild\bbs-3.17-bioc\R\library --no-vignettes --timings LOLA_1.29.0.tar.gz StartedAt: 2022-12-29 00:57:11 -0500 (Thu, 29 Dec 2022) EndedAt: 2022-12-29 00:58:41 -0500 (Thu, 29 Dec 2022) EllapsedTime: 90.0 seconds RetCode: 0 Status: OK CheckDir: LOLA.Rcheck Warnings: 0