Package: InterCellar Version: 2.5.0 Command: chmod a+r InterCellar -R && F:\biocbuild\bbs-3.17-bioc\R\bin\R.exe CMD build --keep-empty-dirs --no-resave-data InterCellar StartedAt: 2022-12-28 18:42:04 -0500 (Wed, 28 Dec 2022) EndedAt: 2022-12-28 18:42:46 -0500 (Wed, 28 Dec 2022) EllapsedTime: 41.3 seconds RetCode: 0 Status: OK PackageFile: InterCellar_2.5.0.tar.gz PackageFileSize: 3.999 MiB