Package: ITALICS Version: 2.59.0 Command: F:\biocbuild\bbs-3.17-bioc\R\bin\R.exe CMD INSTALL ITALICS StartedAt: 2022-12-28 15:43:41 -0500 (Wed, 28 Dec 2022) EndedAt: 2022-12-28 15:43:44 -0500 (Wed, 28 Dec 2022) EllapsedTime: 2.9 seconds RetCode: 1 Status: ERROR